BEGIN:VCALENDAR
PRODID:-//AT Content Types//AT Event//EN
VERSION:1.0
BEGIN:VEVENT
DTSTART:20021030T171500Z
DTEND:20021030T191500Z
DCREATED:20130418T194420Z
UID:ATEvent-5468fada0cc74b03914e7f38e3623e42
SEQUENCE:0
LAST-MODIFIED:20191025T140820Z
SUMMARY:Vortrag Lieselotte E. Saurma
DESCRIPTION:Vortrag Lieselotte E. Saurma: Das Gebetbuch Ottos III. - e
 in Herrscherspiegel?
LOCATION:Zentralinstitut für Kunstgeschichte\, Vortragsraum 242\, II. OG\, Katharina-von-Bora-Straße 10\, 80333 München
PRIORITY:3
TRANSP:0
END:VEVENT
END:VCALENDAR
