BEGIN:VCALENDAR
PRODID:-//AT Content Types//AT Event//EN
VERSION:2.0
METHOD:PUBLISH
BEGIN:VEVENT
DTSTAMP:20260424T225319Z
CREATED:20130418T194421Z
UID:ATEvent-e6f95142c1974875bb46a0e2d01d697b
LAST-MODIFIED:20191025T141916Z
SUMMARY:Vortrag Werner Telesko
DTSTART:20030129T171500Z
DTEND:20030129T191500Z
DESCRIPTION:Vortrag Werner Telesko: "Meine Liebe vermache ich meinen U
 nterthanen" - Zur Selbstdarstellung und Kunstpolitik Kaiser Franz I. v
 on Österreich
LOCATION:Zentralinstitut für Kunstgeschichte\, Vortragsraum 242\, II. OG\, Katharina-von-Bora-Straße 10\, 80333 München
CATEGORIES:2003
CLASS:PUBLIC
END:VEVENT
END:VCALENDAR
