BEGIN:VCALENDAR
PRODID:-//AT Content Types//AT Event//EN
VERSION:1.0
BEGIN:VEVENT
DTSTART:20030205T171500Z
DTEND:20030205T191500Z
DCREATED:20130418T194421Z
UID:ATEvent-b2e0843c4458433cb3ac924d86619e30
SEQUENCE:0
LAST-MODIFIED:20191025T141924Z
SUMMARY:Vortrag Willibald Sauerländer
DESCRIPTION:Vortrag Willibald Sauerländer: Chartres vor und nach der 
 Kunstgeschichte
LOCATION:Zentralinstitut für Kunstgeschichte\, Vortragsraum 242\, II. OG\, Katharina-von-Bora-Straße 10\, 80333 München
PRIORITY:3
TRANSP:0
END:VEVENT
END:VCALENDAR
