BEGIN:VCALENDAR
PRODID:-//AT Content Types//AT Event//EN
VERSION:2.0
METHOD:PUBLISH
BEGIN:VEVENT
DTSTAMP:20260420T083643Z
CREATED:20130418T194421Z
UID:ATEvent-44abdc50b17d4d50814578ca2dc27726
LAST-MODIFIED:20191025T141939Z
SUMMARY:Vortrag Andrea von Hülsen-Esch
DTSTART:20030219T171500Z
DTEND:20030219T191500Z
DESCRIPTION:Vortrag Andrea von Hülsen-Esch: Gelehrte Ärzte im Mittel
 alter: Repräsentationsformen eines Berufsstandes
LOCATION:Zentralinstitut für Kunstgeschichte\, Vortragsraum 242\, II. OG\, Katharina-von-Bora-Straße 10\, 80333 München
CATEGORIES:2003
CLASS:PUBLIC
END:VEVENT
END:VCALENDAR
