BEGIN:VCALENDAR
PRODID:-//AT Content Types//AT Event//EN
VERSION:1.0
BEGIN:VEVENT
DTSTART:20030319T171500Z
DTEND:20030319T191500Z
DCREATED:20130418T194422Z
UID:ATEvent-30e484abc410491bb3405c01b2b52c88
SEQUENCE:0
LAST-MODIFIED:20191025T142004Z
SUMMARY:Vortrag Ute Engel
DESCRIPTION:Vortrag Ute Engel: Architektur\, Sprache und Kult. Die got
 ischen Kathedralen Englands unter dem Aspekt der Stilwahl
LOCATION:Zentralinstitut für Kunstgeschichte\, Vortragsraum 242\, II. OG\, Katharina-von-Bora-Straße 10\, 80333 München
PRIORITY:3
TRANSP:0
END:VEVENT
END:VCALENDAR
