BEGIN:VCALENDAR
PRODID:-//AT Content Types//AT Event//EN
VERSION:1.0
BEGIN:VEVENT
DTSTART:20030521T161500Z
DTEND:20030521T181500Z
DCREATED:20130418T194423Z
UID:ATEvent-f530882e3b4c4b42b267acf814d7ba4c
SEQUENCE:0
LAST-MODIFIED:20191025T142126Z
SUMMARY:Vortrag Sabine Frommel
DESCRIPTION:Vortrag Sabine Frommel: Der profane Zentralbau von Mantegn
 as Haus bis zu Palladios Villa Rotonda
LOCATION:Zentralinstitut für Kunstgeschichte\, Vortragsraum 242\, II. OG\, Katharina-von-Bora-Straße 10\, 80333 München
PRIORITY:3
TRANSP:0
END:VEVENT
END:VCALENDAR
