BEGIN:VCALENDAR
PRODID:-//AT Content Types//AT Event//EN
VERSION:1.0
BEGIN:VEVENT
DTSTART:20030709T161500Z
DTEND:20030709T181500Z
DCREATED:20130418T194423Z
UID:ATEvent-bae6390ed053494ab6ef8196dfb10cd3
SEQUENCE:0
LAST-MODIFIED:20191025T142208Z
SUMMARY:Vortrag Jochen Meyer
DESCRIPTION:Vortrag Jochen Meyer: Alles nur Theater? Architekturbühne
 n und Bühnenarchitekturen im Werk Karl Friedrich Schinkels
LOCATION:Zentralinstitut für Kunstgeschichte\, Vortragsraum 242\, II. OG\, Katharina-von-Bora-Straße 10\, 80333 München
PRIORITY:3
TRANSP:0
END:VEVENT
END:VCALENDAR
