BEGIN:VCALENDAR
PRODID:-//AT Content Types//AT Event//EN
VERSION:2.0
METHOD:PUBLISH
BEGIN:VEVENT
DTSTAMP:20260422T055545Z
CREATED:20130418T194425Z
UID:ATEvent-a13d7f9df9bb426bb6a0555d57a616ac
LAST-MODIFIED:20191025T142247Z
SUMMARY:Verleihung des Werner-Hauger-Stipendiums
DTSTART:20031105T180000Z
DTEND:20031105T181500Z
DESCRIPTION:Verleihung des Werner-Hauger-Stipendiums an Dr. Thomas Ric
 hter\, für sein Dissertationsprojekt zu Paxtafeln und Pacificalia. St
 udien zu Form\, Ikonographie und liturgischem Gebrauch
LOCATION:Zentralinstitut für Kunstgeschichte\, Vortragsraum 242\, II. OG\, Katharina-von-Bora-Straße 10\, 80333 München
CATEGORIES:2003
CLASS:PUBLIC
END:VEVENT
END:VCALENDAR
