BEGIN:VCALENDAR
PRODID:-//AT Content Types//AT Event//EN
VERSION:1.0
BEGIN:VEVENT
DTSTART:20031203T171500Z
DTEND:20031203T191500Z
DCREATED:20130418T194425Z
UID:ATEvent-25619b37f5ff4d83b39bfaae90a0a824
SEQUENCE:0
LAST-MODIFIED:20191025T141906Z
SUMMARY:Festvortrag Stanislaus von Moos
DESCRIPTION:Festvortrag Stanislaus von Moos: Ornament und Common Sense
 . Über Max Bill und Peter Meyer
LOCATION:Zentralinstitut für Kunstgeschichte\, Vortragsraum 242\, II. OG\, Katharina-von-Bora-Straße 10\, 80333 München
PRIORITY:3
TRANSP:0
END:VEVENT
END:VCALENDAR
