BEGIN:VCALENDAR
PRODID:-//AT Content Types//AT Event//EN
VERSION:1.0
BEGIN:VEVENT
DTSTART:20040225T171500Z
DTEND:20040225T191500Z
DCREATED:20130418T194426Z
UID:ATEvent-6e2b065f455f4e2a8fc8bc9990395869
SEQUENCE:0
LAST-MODIFIED:20191025T143012Z
SUMMARY:Vortrag Veronica Biermann
DESCRIPTION:Vortrag Veronica Biermann: Christina von Schweden in Rom -
  Integration und Selbstbehauptung. Der Palazzo Riario und seine Aussta
 ttung
LOCATION:Zentralinstitut für Kunstgeschichte\, Vortragsraum 242\, II. OG\, Katharina-von-Bora-Straße 10\, 80333 München
PRIORITY:3
TRANSP:0
END:VEVENT
END:VCALENDAR
