BEGIN:VCALENDAR
PRODID:-//AT Content Types//AT Event//EN
VERSION:1.0
BEGIN:VEVENT
DTSTART:20040519T161500Z
DTEND:20040519T181500Z
DCREATED:20130418T194427Z
UID:ATEvent-c191b0bcc543421eb27f8c91b2af9255
SEQUENCE:0
LAST-MODIFIED:20191025T143049Z
SUMMARY:Vortrag Albert Dietl
DESCRIPTION:Vortrag Albert Dietl: Der Chic des Anrüchigen. Aus der fr
 ühen Bildgeschichte der Zigarette
LOCATION:Zentralinstitut für Kunstgeschichte\, Vortragsraum 242\, II. OG\, Katharina-von-Bora-Straße 10\, 80333 München
PRIORITY:3
TRANSP:0
END:VEVENT
END:VCALENDAR
