BEGIN:VCALENDAR
PRODID:-//AT Content Types//AT Event//EN
VERSION:2.0
METHOD:PUBLISH
BEGIN:VEVENT
DTSTAMP:20260422T103620Z
CREATED:20130418T194427Z
UID:ATEvent-72c5c13c60da45559a79bba53f214061
LAST-MODIFIED:20191025T143142Z
SUMMARY:Vortrag Lorenz Seelig
DTSTART:20040630T161500Z
DTEND:20040630T181500Z
DESCRIPTION:Vortrag Lorenz Seelig: Die MÃ¼nchner Kunstkammer der HerzÃ
 ¶ge Albrecht V. und Wilhelm V. von Bayern. Zu Anlage und Ausstattung d
 es "bayerischen Theaters kunstreicher GegenstÃ¤nde"
LOCATION:Zentralinstitut fÃ¼r Kunstgeschichte\, Vortragsraum 242\, II. OG\, Katharina-von-Bora-StraÃŸe 10\, 80333 MÃ¼nchen
CATEGORIES:2004
CLASS:PUBLIC
END:VEVENT
END:VCALENDAR
