BEGIN:VCALENDAR
PRODID:-//AT Content Types//AT Event//EN
VERSION:1.0
BEGIN:VEVENT
DTSTART:20040721T161500Z
DTEND:20040721T181500Z
DCREATED:20130418T194428Z
UID:ATEvent-756b824ce0e94f4d9e4cab9c37b2dde4
SEQUENCE:0
LAST-MODIFIED:20191025T143218Z
SUMMARY:Festvortrag Peter Haiko
DESCRIPTION:Festvortrag Peter Haiko: Adolf Loos: Der Stadtplan für Wi
 en 1912/13
LOCATION:Zentralinstitut für Kunstgeschichte\, Vortragsraum 242\, II. OG\, Katharina-von-Bora-Straße 10\, 80333 München
PRIORITY:3
TRANSP:0
END:VEVENT
END:VCALENDAR
