BEGIN:VCALENDAR
PRODID:-//AT Content Types//AT Event//EN
VERSION:2.0
METHOD:PUBLISH
BEGIN:VEVENT
DTSTAMP:20260422T145318Z
CREATED:20130418T194428Z
UID:ATEvent-2ee7162e03504fa9bf0f63e4774a0b4b
LAST-MODIFIED:20191025T143228Z
SUMMARY:Vortrag Huberta Weigl
DTSTART:20041020T161500Z
DTEND:20041020T181500Z
DESCRIPTION:Vortrag Huberta Weigl: Abt Berthold Dietmayr\, Jakob Prand
 tauer und das Benediktinerstift Melk Zur Rolle des Auftraggebers in de
 r Genese des barocken Klosterbaus
LOCATION:Zentralinstitut für Kunstgeschichte\, Vortragsraum 242\, II. OG\, Katharina-von-Bora-Straße 10\, 80333 München
CATEGORIES:2004
CLASS:PUBLIC
END:VEVENT
END:VCALENDAR
