BEGIN:VCALENDAR
PRODID:-//AT Content Types//AT Event//EN
VERSION:1.0
BEGIN:VEVENT
DTSTART:20041110T171500Z
DTEND:20041110T191500Z
DCREATED:20130418T194428Z
UID:ATEvent-6d973a35713d465db8c9a942741b9c79
SEQUENCE:0
LAST-MODIFIED:20191025T143256Z
SUMMARY:Vortrag Thomas Weidner
DESCRIPTION:Vortrag Thomas Weidner: Zeremoniell und Überlieferung der
  Grundsteinlegung
LOCATION:Zentralinstitut für Kunstgeschichte\, Vortragsraum 242\, II. OG\, Katharina-von-Bora-Straße 10\, 80333 München
PRIORITY:3
TRANSP:0
END:VEVENT
END:VCALENDAR
