BEGIN:VCALENDAR
PRODID:-//AT Content Types//AT Event//EN
VERSION:2.0
METHOD:PUBLISH
BEGIN:VEVENT
DTSTAMP:20260423T114209Z
CREATED:20130418T194428Z
UID:ATEvent-a2cefe1c1935421da8d6b7dc6c3d2a2e
LAST-MODIFIED:20241021T093506Z
SUMMARY:Ausstellung // Münchner Kirchen des 19. und 20. Jahrhunderts
DTSTART:20041111T171500Z
DTEND:20050119T230000Z
DESCRIPTION:Schwarz-weiß-Fotografien von Margrit Behrens
LOCATION:Zentralinstitut für Kunstgeschichte\, Lichthof Nord\, I. OG\, Katharina-von-Bora-Straße 10\, 80333 München
CATEGORIES:2004, Objekt und Materialität, Ausstellung
CLASS:PUBLIC
END:VEVENT
END:VCALENDAR
