BEGIN:VCALENDAR
PRODID:-//AT Content Types//AT Event//EN
VERSION:1.0
BEGIN:VEVENT
DTSTART:20041201T171500Z
DTEND:20041201T191500Z
DCREATED:20130418T194429Z
UID:ATEvent-cb965622591d4b99880a710215d00f9f
SEQUENCE:0
LAST-MODIFIED:20191025T143405Z
SUMMARY:Vortrag Stephan Albrecht
DESCRIPTION:Vortrag Stephan Albrecht: Herrschaft und Stadtstruktur im 
 Mittelalter
LOCATION:Zentralinstitut für Kunstgeschichte\, Vortragsraum 242\, II. OG\, Katharina-von-Bora-Straße 10\, 80333 München
PRIORITY:3
TRANSP:0
END:VEVENT
END:VCALENDAR
