BEGIN:VCALENDAR
PRODID:-//AT Content Types//AT Event//EN
VERSION:2.0
METHOD:PUBLISH
BEGIN:VEVENT
DTSTAMP:20260426T021534Z
CREATED:20130418T194429Z
UID:ATEvent-1cf6763b0f3c4d21ab34dddb680833d4
LAST-MODIFIED:20191025T143432Z
SUMMARY:Festvortrag Matthias Winner
DTSTART:20041209T171500Z
DTEND:20041209T191500Z
DESCRIPTION:Festvortrag Matthias Winner: Die Linie in der Handzeichnun
 g von Dürer bis Menzel
LOCATION:Zentralinstitut für Kunstgeschichte\, Vortragsraum 242\, II. OG\, Katharina-von-Bora-Straße 10\, 80333 München
CATEGORIES:2004
CLASS:PUBLIC
END:VEVENT
END:VCALENDAR
