BEGIN:VCALENDAR
PRODID:-//AT Content Types//AT Event//EN
VERSION:1.0
BEGIN:VEVENT
DTSTART:20050407T130000Z
DTEND:20050409T131500Z
DCREATED:20130418T194432Z
UID:ATEvent-2142b570159543e5a8cd539d0824931f
SEQUENCE:0
LAST-MODIFIED:20190619T132556Z
SUMMARY:Kolloquium "Nationale Identitäten - Internationale Avantgarden"
DESCRIPTION:"Nationale Identitäten - Internationale Avantgarden" (Int
 ernationale Konferenz der Forschungsgruppe."München als europäisches
  Zentrum der Künstlerausbildung").
LOCATION:Hanns-Seidel-Stiftung\, Bildungszentrum Wildbad Kreuth\, 83708 Wildbad Kreuth
PRIORITY:3
TRANSP:0
END:VEVENT
END:VCALENDAR
