BEGIN:VCALENDAR
PRODID:-//AT Content Types//AT Event//EN
VERSION:1.0
BEGIN:VEVENT
DTSTART:20050510T161500Z
DTEND:20050510T181500Z
DCREATED:20130418T194433Z
UID:ATEvent-3ea38f9f85414232ae3046a351799491
SEQUENCE:0
LAST-MODIFIED:20191025T144058Z
SUMMARY:Vortrag Norberto Gramaccini
DESCRIPTION:Vortrag Norberto Gramaccini: Francesco Petrarca und die Ku
 nst der Renaissance in Italien (in Zusammenarbeit mit dem Verein zur F
 örderung des Kunsthistorischen Instituts in Florenz (Max-Planck-Insti
 tut) e.V.)
LOCATION:Zentralinstitut für Kunstgeschichte\, Vortragsraum 242\, II. OG\, Katharina-von-Bora-Straße 10\, 80333 München
PRIORITY:3
TRANSP:0
END:VEVENT
END:VCALENDAR
