BEGIN:VCALENDAR
PRODID:-//AT Content Types//AT Event//EN
VERSION:2.0
METHOD:PUBLISH
BEGIN:VEVENT
DTSTAMP:20260423T114257Z
CREATED:20130418T194433Z
UID:ATEvent-c5d7881f9af24559b9648105499451f9
LAST-MODIFIED:20191025T144153Z
SUMMARY:Vortrag Hans Aurenhammer
DTSTART:20050615T161500Z
DTEND:20050615T181500Z
DESCRIPTION:Vortrag Hans Aurenhammer: Kunstgeschichte und Politik: Han
 s Sedlmayr 1934-1938-1945 (In Zusammenarbeit mit dem Kulturreferat der
  Landeshauptstadt München)
LOCATION:Zentralinstitut für Kunstgeschichte\, Vortragsraum 242\, II. OG\, Katharina-von-Bora-Straße 10\, 80333 München
CATEGORIES:2005
CLASS:PUBLIC
END:VEVENT
END:VCALENDAR
