BEGIN:VCALENDAR
PRODID:-//AT Content Types//AT Event//EN
VERSION:2.0
METHOD:PUBLISH
BEGIN:VEVENT
DTSTAMP:20260423T021314Z
CREATED:20130418T194434Z
UID:ATEvent-395aec0c495f4d15a8ba290bf8fd0e06
LAST-MODIFIED:20191025T144226Z
SUMMARY:Vortrag Arthur MacGregor
DTSTART:20050706T161500Z
DTEND:20050706T181500Z
DESCRIPTION:Vortrag Arthur MacGregor: A late start but a strong beginn
 ing: patterns of collecting in England in the seventeenth century
LOCATION:Zentralinstitut für Kunstgeschichte\, Vortragsraum 242\, II. OG\, Katharina-von-Bora-Straße 10\, 80333 München
CATEGORIES:2005
CLASS:PUBLIC
END:VEVENT
END:VCALENDAR
