BEGIN:VCALENDAR
PRODID:-//AT Content Types//AT Event//EN
VERSION:1.0
BEGIN:VEVENT
DTSTART:20051130T171500Z
DTEND:20051130T191500Z
DCREATED:20130418T194438Z
UID:ATEvent-7c21dfcc36a4480198e380aa5deae58d
SEQUENCE:0
LAST-MODIFIED:20191025T144417Z
SUMMARY:Festvortrag Matthias Schirren
DESCRIPTION:Festvortrag Matthias Schirren: Organisierung der Architekt
 ur. Bruno Tauts theoretische Sendung
LOCATION:Zentralinstitut für Kunstgeschichte\, Vortragsraum 242\, II. OG\, Katharina-von-Bora-Straße 10\, 80333 München
PRIORITY:3
TRANSP:0
END:VEVENT
END:VCALENDAR
