BEGIN:VCALENDAR
PRODID:-//AT Content Types//AT Event//EN
VERSION:2.0
METHOD:PUBLISH
BEGIN:VEVENT
DTSTAMP:20260421T082653Z
CREATED:20130418T194439Z
UID:ATEvent-9cc7b4ee28944f85837fcec235d0885d
LAST-MODIFIED:20191025T141439Z
SUMMARY:Vortrag Tilmann Buddensieg
DTSTART:20060118T171500Z
DTEND:20060118T191500Z
DESCRIPTION:Vortrag Tilmann Buddensieg: Die karolingische Malerschule 
 von Tours und die Bauhausmaler in Weimar - Wilhelm Koehler und Paul Kl
 ee
LOCATION:Zentralinstitut für Kunstgeschichte\, Vortragsraum 242\, II. OG\, Katharina-von-Bora-Straße 10\, 80333 München
CATEGORIES:2006
CLASS:PUBLIC
END:VEVENT
END:VCALENDAR
