BEGIN:VCALENDAR
PRODID:-//AT Content Types//AT Event//EN
VERSION:2.0
METHOD:PUBLISH
BEGIN:VEVENT
DTSTAMP:20260420T095720Z
CREATED:20130418T194439Z
UID:ATEvent-b7dda4bbdacd4cb78bfc57d745118781
LAST-MODIFIED:20191025T144839Z
SUMMARY:Vortrag Olaf Peters
DTSTART:20060215T171500Z
DTEND:20060215T191500Z
DESCRIPTION:Vortrag Olaf Peters: Blindekuh - Max Beckmanns Triptychon 
 als Versuch der Reorientierung am Ende des Zweiten Weltkriegs
LOCATION:Zentralinstitut für Kunstgeschichte\, Vortragsraum 242\, II. OG\, Katharina-von-Bora-Straße 10\, 80333 München
CATEGORIES:2006
CLASS:PUBLIC
END:VEVENT
END:VCALENDAR
