BEGIN:VCALENDAR
PRODID:-//AT Content Types//AT Event//EN
VERSION:1.0
BEGIN:VEVENT
DTSTART:20060301T171500Z
DTEND:20060301T191500Z
DCREATED:20130418T194441Z
UID:ATEvent-66be3170be834b28bde7301b32ae592d
SEQUENCE:0
LAST-MODIFIED:20191025T144901Z
SUMMARY:Vortrag Hendrik Ziegler
DESCRIPTION:Vortrag Hendrik Ziegler: Ludwig XIV. und die Sonne. Zur Ge
 nese einer Herrschersymbolik
LOCATION:Zentralinstitut für Kunstgeschichte\, Vortragsraum 242\, II. OG\, Katharina-von-Bora-Straße 10\, 80333 München
PRIORITY:3
TRANSP:0
END:VEVENT
END:VCALENDAR
