BEGIN:VCALENDAR
PRODID:-//AT Content Types//AT Event//EN
VERSION:2.0
METHOD:PUBLISH
BEGIN:VEVENT
DTSTAMP:20260420T082016Z
CREATED:20130418T194441Z
UID:ATEvent-124a59f7ee5a4e4faf142037d07cf210
LAST-MODIFIED:20191025T144920Z
SUMMARY:Vortrag Astrit Schmidt-Burkhardt
DTSTART:20060315T171500Z
DTEND:20060315T191500Z
DESCRIPTION:Vortrag Astrit Schmidt-Burkhardt: Okulartyrannis. Vom Foto
 -Auge zum Kamera-Auge
LOCATION:Zentralinstitut für Kunstgeschichte\, Vortragsraum 242\, II. OG\, Katharina-von-Bora-Straße 10\, 80333 München
CATEGORIES:2006
CLASS:PUBLIC
END:VEVENT
END:VCALENDAR
