BEGIN:VCALENDAR
PRODID:-//AT Content Types//AT Event//EN
VERSION:2.0
METHOD:PUBLISH
BEGIN:VEVENT
DTSTAMP:20260423T093154Z
CREATED:20130418T194442Z
UID:ATEvent-a6a825b1949e4f44b57d6c5e07921eee
LAST-MODIFIED:20191025T145024Z
SUMMARY:Vortrag Brigitte Sölch
DTSTART:20060531T161500Z
DTEND:20060531T181500Z
DESCRIPTION:Vortrag Brigitte Sölch: Sichtbarkeit der Geschichte. Zur 
 Leitidee der vatikanischen Museumsplanungen im frühen Settecento
LOCATION:Zentralinstitut für Kunstgeschichte\, Vortragsraum 242\, II. OG\, Katharina-von-Bora-Straße 10\, 80333 München
CATEGORIES:2006
CLASS:PUBLIC
END:VEVENT
END:VCALENDAR
