BEGIN:VCALENDAR
PRODID:-//AT Content Types//AT Event//EN
VERSION:2.0
METHOD:PUBLISH
BEGIN:VEVENT
DTSTAMP:20260421T094329Z
CREATED:20130418T194442Z
UID:ATEvent-4ab130875450408c90b9f21446ab3be9
LAST-MODIFIED:20191025T145102Z
SUMMARY:Vortrag Angela Opel
DTSTART:20060621T161500Z
DTEND:20060621T181500Z
DESCRIPTION:Vortrag Angela Opel: Das Kurfürstliche Kupferstich- und Z
 eichnungskabinett Mannheim (1758-1793) und seine Zeichnungs-Schausamml
 ung
LOCATION:Zentralinstitut für Kunstgeschichte\, Vortragsraum 242\, II. OG\, Katharina-von-Bora-Straße 10\, 80333 München
CATEGORIES:2006
CLASS:PUBLIC
END:VEVENT
END:VCALENDAR
