BEGIN:VCALENDAR
PRODID:-//AT Content Types//AT Event//EN
VERSION:2.0
METHOD:PUBLISH
BEGIN:VEVENT
DTSTAMP:20260419T193912Z
CREATED:20130418T194442Z
UID:ATEvent-e52c07df2cea4d7bb59ffada0d8c68b3
LAST-MODIFIED:20190619T133340Z
SUMMARY:Tagung "Die Kunst für Alle"
DTSTART:20060714T070000Z
DTEND:20060714T140000Z
DESCRIPTION:Tagung "Die Kunst für Alle" (1885-1944). Zur Kunstpublizi
 stik vom Kaiserreich bis zum Nationalsozialismus
LOCATION:Zentralinstitut für Kunstgeschichte\, Vortragsraum 242\, II. OG\, Katharina-von-Bora-Straße 10\, 80333 München
CATEGORIES:2006, Kunstgeschichte als Wissen und Wissenschaft
CLASS:PUBLIC
END:VEVENT
END:VCALENDAR
