BEGIN:VCALENDAR
PRODID:-//AT Content Types//AT Event//EN
VERSION:2.0
METHOD:PUBLISH
BEGIN:VEVENT
DTSTAMP:20260420T201813Z
CREATED:20130418T194443Z
UID:ATEvent-5561024f6a8947fc8a73d3cabc295e66
LAST-MODIFIED:20191025T145117Z
SUMMARY:Verleihung Wolfgang-Ratjen-Preis
DTSTART:20060719T160000Z
DTEND:20060719T161500Z
DESCRIPTION:Vergabe des Wolfgang-Ratjen-Preises 2012 für herausragend
 e Forschungsarbeiten zur Geschichte der graphischen Künste an Astrid 
 Bähr und Christien Melzer
LOCATION:Zentralinstitut für Kunstgeschichte\, Vortragsraum 242\, II. OG\, Katharina-von-Bora-Straße 10\, 80333 München
CATEGORIES:2006
CLASS:PUBLIC
END:VEVENT
END:VCALENDAR
