BEGIN:VCALENDAR
PRODID:-//AT Content Types//AT Event//EN
VERSION:2.0
METHOD:PUBLISH
BEGIN:VEVENT
DTSTAMP:20260420T083713Z
CREATED:20130418T194443Z
UID:ATEvent-835ee0c354a7412dbd9d93baa74d552e
LAST-MODIFIED:20191025T145146Z
SUMMARY:Vortrag Dorothea und Peter Diemer
DTSTART:20061018T161500Z
DTEND:20061018T181500Z
DESCRIPTION:Vortrag Dorothea und Peter Diemer: Die Bronzetür des Augs
 burger Domes
LOCATION:Zentralinstitut für Kunstgeschichte\, Vortragsraum 242\, II. OG\, Katharina-von-Bora-Straße 10\, 80333 München
CATEGORIES:2006
CLASS:PUBLIC
END:VEVENT
END:VCALENDAR
