BEGIN:VCALENDAR
PRODID:-//AT Content Types//AT Event//EN
VERSION:2.0
METHOD:PUBLISH
BEGIN:VEVENT
DTSTAMP:20260420T055756Z
CREATED:20130418T194444Z
UID:ATEvent-865cf982d36d4b5fb789b64fea865d5e
LAST-MODIFIED:20191025T145204Z
SUMMARY:Vortrag Henri Zerner
DTSTART:20061026T161500Z
DTEND:20061026T181500Z
DESCRIPTION:Vortrag Henri Zerner: Connoisseurship and Kunstwissenschaf
 t: Giovanni Morelli between Italy and the German tradition (Zur Eröff
 nung des Masterstudiengangs Historische Kunst- und Bilddiskurse (Elite
 netzwerk Bayern) Grußwort: Jacques Fleck\, Attaché der französische
 n Botschaft für Wissenschafts- und Universitätskooperation\nEinführ
 ung: Michael F. Zimmermann\, Katholische Universität Eichstätt-Ingol
 stadt\, Sprecher des Studiengangs)
LOCATION:Zentralinstitut für Kunstgeschichte\, Vortragsraum 242\, II. OG\, Katharina-von-Bora-Straße 10\, 80333 München
CATEGORIES:2006
CLASS:PUBLIC
END:VEVENT
END:VCALENDAR
