BEGIN:VCALENDAR
PRODID:-//AT Content Types//AT Event//EN
VERSION:2.0
METHOD:PUBLISH
BEGIN:VEVENT
DTSTAMP:20260426T003030Z
CREATED:20130418T194444Z
UID:ATEvent-3f6a6e32402141d1b2ba81d5dbfc722e
LAST-MODIFIED:20190619T133425Z
SUMMARY:Tagung "Zwischen deutscher Kunst und internationaler Modernität"
DTSTART:20061110T081500Z
DTEND:20061111T141500Z
DESCRIPTION:Tagung: Zwischen deutscher Kunst und internationaler Moder
 nität. Formungen in der Künstlerausbildung 1918 bis 1968 (Von der Un
 iversität der Künste Berlin und dem Zentralinstitut für Kunstgeschi
 chte in Zusammenarbeit mit der Akademie der Bildenden Künste München
  und der Ludwig-Maximilians-Universität München veranstaltete Tagung
 )
LOCATION:Zentralinstitut für Kunstgeschichte\, Vortragsraum 242\, II. OG\, Katharina-von-Bora-Straße 10\, 80333 München
CATEGORIES:2006, Kunstgeschichte als Wissen und Wissenschaft
CLASS:PUBLIC
END:VEVENT
END:VCALENDAR
