BEGIN:VCALENDAR
PRODID:-//AT Content Types//AT Event//EN
VERSION:2.0
METHOD:PUBLISH
BEGIN:VEVENT
DTSTAMP:20260420T165442Z
CREATED:20130418T194445Z
UID:ATEvent-0fa98e8936574b3f84ca70a4b686a1b4
LAST-MODIFIED:20191025T145230Z
SUMMARY:Vortrag Frank Zöllner
DTSTART:20061122T181500Z
DTEND:20061122T201500Z
DESCRIPTION:Vortrag Frank Zöllner: Dan Browns „Sakrileg“ („The 
 Da Vinci Code“) - Bildwissenschaft für Einsteiger? (In Zusammenarbe
 it mit dem Verein zur Förderung des Kunsthistorischen Instituts in Fl
 orenz (Max-Planck-Institut) e.V.)
LOCATION:Zentralinstitut für Kunstgeschichte\, Vortragsraum 242\, II. OG\, Katharina-von-Bora-Straße 10\, 80333 München
CATEGORIES:2006
CLASS:PUBLIC
END:VEVENT
END:VCALENDAR
