BEGIN:VCALENDAR
PRODID:-//AT Content Types//AT Event//EN
VERSION:2.0
METHOD:PUBLISH
BEGIN:VEVENT
DTSTAMP:20260424T225446Z
CREATED:20130418T194446Z
UID:ATEvent-3a53a2045398499ea7185e79f3458732
LAST-MODIFIED:20191025T141454Z
SUMMARY:Vortrag Michael F. Zimmermann
DTSTART:20070117T171500Z
DTEND:20070117T191500Z
DESCRIPTION:Vortrag Michael F. Zimmermann: Prometheus als Kind. Schöp
 fung und Medium in der Skulptur von Medardo Rosso zu Constantin Brancu
 si (Im Rahmen des Masterstudiengangs Historische Kunst- und Bilddiskur
 se (Elitenetzwerk Bayern))
LOCATION:Zentralinstitut für Kunstgeschichte\, Vortragsraum 242\, II. OG\, Katharina-von-Bora-Straße 10\, 80333 München
CATEGORIES:2007
CLASS:PUBLIC
END:VEVENT
END:VCALENDAR
