BEGIN:VCALENDAR
PRODID:-//AT Content Types//AT Event//EN
VERSION:2.0
METHOD:PUBLISH
BEGIN:VEVENT
DTSTAMP:20260422T034638Z
CREATED:20130418T194447Z
UID:ATEvent-00bc888b1a184684b7aa0892b2659f7a
LAST-MODIFIED:20191025T151011Z
SUMMARY:Vortrag Ulrich Pfisterer
DTSTART:20070228T181500Z
DTEND:20070228T201500Z
DESCRIPTION:Vortrag Ulrich Pfisterer: Die Sprachlosigkeit der Antiquar
 e - Humanistisches Zeichnen und die Anfänge archäologischer Dokument
 ation in der Renaissance (In Zusammenarbeit mit dem Verein zur Förder
 ung des Kunsthistorischen Instituts in Florenz (Max-Planck-Institut) e
 .V.)
LOCATION:Zentralinstitut für Kunstgeschichte\, Vortragsraum 242\, II. OG\, Katharina-von-Bora-Straße 10\, 80333 München
CATEGORIES:2007
CLASS:PUBLIC
END:VEVENT
END:VCALENDAR
