BEGIN:VCALENDAR
PRODID:-//AT Content Types//AT Event//EN
VERSION:1.0
BEGIN:VEVENT
DTSTART:20070523T161500Z
DTEND:20070523T181500Z
DCREATED:20130418T194448Z
UID:ATEvent-98c204f27e5f44e1b0cde0a67e74f3cd
SEQUENCE:0
LAST-MODIFIED:20191025T152741Z
SUMMARY:Vortrag Wolf Tegethoff
DESCRIPTION:Vortrag Wolf Tegethoff: Zu Daumiers sogenanntem Essener Ec
 ce Homo
LOCATION:Zentralinstitut für Kunstgeschichte\, Vortragsraum 242\, II. OG\, Katharina-von-Bora-Straße 10\, 80333 München
PRIORITY:3
TRANSP:0
END:VEVENT
END:VCALENDAR
