BEGIN:VCALENDAR
PRODID:-//AT Content Types//AT Event//EN
VERSION:2.0
METHOD:PUBLISH
BEGIN:VEVENT
DTSTAMP:20260420T083728Z
CREATED:20130418T194449Z
UID:ATEvent-e54ca504d28b4ff6b07a547c60f0fd0f
LAST-MODIFIED:20191025T152810Z
SUMMARY:Vortrag Thomas Da Costa Kaufmann
DTSTART:20070613T161500Z
DTEND:20070613T181500Z
DESCRIPTION:Vortrag Thomas Da Costa Kaufmann: Arcimboldo’s Serious J
 okes and the Origins of Still-Life Painting
LOCATION:Zentralinstitut für Kunstgeschichte\, Vortragsraum 242\, II. OG\, Katharina-von-Bora-Straße 10\, 80333 München
CATEGORIES:2007
CLASS:PUBLIC
END:VEVENT
END:VCALENDAR
