BEGIN:VCALENDAR
PRODID:-//AT Content Types//AT Event//EN
VERSION:1.0
BEGIN:VEVENT
DTSTART:20070620T161500Z
DTEND:20070620T181500Z
DCREATED:20130418T194449Z
UID:ATEvent-31525aa9c01542b0b8779bc201564165
SEQUENCE:0
LAST-MODIFIED:20191025T152819Z
SUMMARY:Vortrag Jeffrey Chipps Smith
DESCRIPTION:Vortrag Jeffrey Chipps Smith: Dürer and Sculpture – Dü
 rer as Sculpture
LOCATION:Zentralinstitut für Kunstgeschichte\, Vortragsraum 242\, II. OG\, Katharina-von-Bora-Straße 10\, 80333 München
PRIORITY:3
TRANSP:0
END:VEVENT
END:VCALENDAR
