BEGIN:VCALENDAR
PRODID:-//AT Content Types//AT Event//EN
VERSION:2.0
METHOD:PUBLISH
BEGIN:VEVENT
DTSTAMP:20260422T033219Z
CREATED:20130418T194449Z
UID:ATEvent-73df8e1551e14a9bac51930e5d8edb70
LAST-MODIFIED:20191025T152849Z
SUMMARY:Vortrag Christoph Frank
DTSTART:20070627T161500Z
DTEND:20070627T181500Z
DESCRIPTION:Vortrag Christoph Frank: Im Schatten des Nordlichts: Katha
 rina II. von Russland im Spiegel ihrer (Kunst-)Agenten
LOCATION:Zentralinstitut für Kunstgeschichte\, Vortragsraum 242\, II. OG\, Katharina-von-Bora-Straße 10\, 80333 München
CATEGORIES:2007
CLASS:PUBLIC
END:VEVENT
END:VCALENDAR
