BEGIN:VCALENDAR
PRODID:-//AT Content Types//AT Event//EN
VERSION:2.0
METHOD:PUBLISH
BEGIN:VEVENT
DTSTAMP:20260420T083713Z
CREATED:20130418T194449Z
UID:ATEvent-5e4a8fdd698448e7ae423d1ed584acd6
LAST-MODIFIED:20191025T152917Z
SUMMARY:Vortrag Johannes Grave
DTSTART:20070711T161500Z
DTEND:20070711T181500Z
DESCRIPTION:Vortrag Johannes Grave: Kunstgeschichte als Morphologie â€
 “ Goethes graphische Sammlung
LOCATION:Zentralinstitut fÃ¼r Kunstgeschichte\, Vortragsraum 242\, II. OG\, Katharina-von-Bora-StraÃŸe 10\, 80333 MÃ¼nchen
CATEGORIES:2007
CLASS:PUBLIC
END:VEVENT
END:VCALENDAR
