BEGIN:VCALENDAR
PRODID:-//AT Content Types//AT Event//EN
VERSION:2.0
METHOD:PUBLISH
BEGIN:VEVENT
DTSTAMP:20260422T175219Z
CREATED:20130418T194450Z
UID:ATEvent-4c334b83f14d45e2b05b0475bb49263c
LAST-MODIFIED:20191025T153040Z
SUMMARY:Festvortrag Marco Pogacnik
DTSTART:20071114T181500Z
DTEND:20071114T201500Z
DESCRIPTION:Festvortrag Marco Pogacnik: Die Bildhauerei als Raumschöp
 ferin im Werk von Mies van der Rohe
LOCATION:Zentralinstitut für Kunstgeschichte\, Vortragsraum 242\, II. OG\, Katharina-von-Bora-Straße 10\, 80333 München
CATEGORIES:2007
CLASS:PUBLIC
END:VEVENT
END:VCALENDAR
