BEGIN:VCALENDAR
PRODID:-//AT Content Types//AT Event//EN
VERSION:1.0
BEGIN:VEVENT
DTSTART:20071123T081500Z
DTEND:20071123T191500Z
DCREATED:20130418T194450Z
UID:ATEvent-b7060cd36c3b445481d2cca998683e60
SEQUENCE:0
LAST-MODIFIED:20190624T112108Z
SUMMARY:Tagung "1947: Kunstgeschichte in MÃ¼nchen"
DESCRIPTION:Tagung "1947: Kunstgeschichte in MÃ¼nchen.  Institutionen 
 im Wiederaufbau" (Tagung aus Anlass des 60jÃ¤hrigen Bestehens des Zent
 ralinstituts fÃ¼r Kunstgeschichte\nVeranstaltet vom Zentralinstitut fÃ
 ¼r Kunstgeschichte und dem Bezirksausschuss Maxvorstadt/MÃ¼nchen.)
LOCATION:Zentralinstitut fÃ¼r Kunstgeschichte\, Vortragsraum 242\, II. OG\, Katharina-von-Bora-StraÃŸe 10\, 80333 MÃ¼nchen
PRIORITY:3
TRANSP:0
END:VEVENT
END:VCALENDAR
