BEGIN:VCALENDAR
PRODID:-//AT Content Types//AT Event//EN
VERSION:2.0
METHOD:PUBLISH
BEGIN:VEVENT
DTSTAMP:20260422T234107Z
CREATED:20130418T194452Z
UID:ATEvent-b0157011384e4924b8c137147ed67b48
LAST-MODIFIED:20191025T153114Z
SUMMARY:Vortrag Dietrich Erben
DTSTART:20071128T171500Z
DTEND:20071128T191500Z
DESCRIPTION:Vortrag Dietrich Erben: Mediale Konfigurierung eines Ereig
 nisses: der 11. September 2001
LOCATION:Zentralinstitut für Kunstgeschichte\, Vortragsraum 242\, II. OG\, Katharina-von-Bora-Straße 10\, 80333 München
CATEGORIES:2007
CLASS:PUBLIC
END:VEVENT
END:VCALENDAR
