BEGIN:VCALENDAR
PRODID:-//AT Content Types//AT Event//EN
VERSION:2.0
METHOD:PUBLISH
BEGIN:VEVENT
DTSTAMP:20260423T045729Z
CREATED:20130418T194452Z
UID:ATEvent-6b9fa71585844c38bd92aba3e8456707
LAST-MODIFIED:20191025T145759Z
SUMMARY:Vortrag Michael Diers
DTSTART:20071212T171500Z
DTEND:20071212T191500Z
DESCRIPTION:Vortrag Michael Diers: Der Surrealismus der Fotografie ode
 r Man Ray's "Le Violon d'Ingres" (1924)
LOCATION:Zentralinstitut für Kunstgeschichte\, Vortragsraum 242\, II. OG\, Katharina-von-Bora-Straße 10\, 80333 München
CATEGORIES:2007
CLASS:PUBLIC
END:VEVENT
END:VCALENDAR
