BEGIN:VCALENDAR
PRODID:-//AT Content Types//AT Event//EN
VERSION:2.0
METHOD:PUBLISH
BEGIN:VEVENT
DTSTAMP:20260425T200639Z
CREATED:20130418T194452Z
UID:ATEvent-ba655447473d42938cb98cf22a8cefd9
LAST-MODIFIED:20190626T123054Z
SUMMARY:Vortrag Eberhard König
DTSTART:20080109T171500Z
DTEND:20080109T191500Z
DESCRIPTION:Vortrag Eberhard König: Zu den Wucherformen der Typologie
  im 15. Jahrhundert
LOCATION:Zentralinstitut für Kunstgeschichte\, Vortragsraum 242\, II. OG\, Katharina-von-Bora-Straße 10\, 80333 München
CATEGORIES:2008
CLASS:PUBLIC
END:VEVENT
END:VCALENDAR
