BEGIN:VCALENDAR
PRODID:-//AT Content Types//AT Event//EN
VERSION:2.0
METHOD:PUBLISH
BEGIN:VEVENT
DTSTAMP:20260423T141927Z
CREATED:20130418T194452Z
UID:ATEvent-e9fff183287349a99c1ac2d3dbf64577
LAST-MODIFIED:20190626T123114Z
SUMMARY:Vortrag Norbert Ott
DTSTART:20080116T171500Z
DTEND:20080116T191500Z
DESCRIPTION:Vortrag Norbert Ott: Medienwechsel: Spätmittelalterliche 
 und frühneuzeitliche Buchillustration zwischen Handschrift und Druck
LOCATION:Zentralinstitut für Kunstgeschichte\, Vortragsraum 242\, II. OG\, Katharina-von-Bora-Straße 10\, 80333 München
CATEGORIES:2008
CLASS:PUBLIC
END:VEVENT
END:VCALENDAR
