BEGIN:VCALENDAR
PRODID:-//AT Content Types//AT Event//EN
VERSION:1.0
BEGIN:VEVENT
DTSTART:20080213T181500Z
DTEND:20080213T201500Z
DCREATED:20130418T194454Z
UID:ATEvent-f9997b5c0cd84b58ad0cf876fdab7882
SEQUENCE:0
LAST-MODIFIED:20190626T123158Z
SUMMARY:Vortrag Bernd Roeck
DESCRIPTION:Vortrag Bernd Roeck: Die Finanzen Federico da Montefeltros
 . Eine neue Quelle zur urbinatischen Kunstpatronage. (In Zusammenarbei
 t mit dem Verein zur Förderung des Kunsthistorischen Instituts in Flo
 renz (Max-Planck-Institut) e.V.)
LOCATION:Zentralinstitut für Kunstgeschichte\, Vortragsraum 242\, II. OG\, Katharina-von-Bora-Straße 10\, 80333 München
PRIORITY:3
TRANSP:0
END:VEVENT
END:VCALENDAR
