BEGIN:VCALENDAR
PRODID:-//AT Content Types//AT Event//EN
VERSION:2.0
METHOD:PUBLISH
BEGIN:VEVENT
DTSTAMP:20260422T145422Z
CREATED:20130418T194454Z
UID:ATEvent-e7ddc0ddfa1f49e093ec8bac8ae1c98a
LAST-MODIFIED:20190626T123216Z
SUMMARY:Vortrag Christian Scholl
DTSTART:20080227T171500Z
DTEND:20080227T191500Z
DESCRIPTION:Vortrag Christian Scholl: Romantik und Kunstgeschichte: Et
 appen einer Annäherung im 19. Jahrhundert
LOCATION:Zentralinstitut für Kunstgeschichte\, Vortragsraum 242\, II. OG\, Katharina-von-Bora-Straße 10\, 80333 München
CATEGORIES:2008
CLASS:PUBLIC
END:VEVENT
END:VCALENDAR
